BEGIN:VCALENDAR
PRODID:-//AT Content Types//AT Event//EN
VERSION:1.0
BEGIN:VEVENT
DTSTART:20130307T080000Z
DTEND:20130307T144500Z
DCREATED:20130313T162108Z
UID:ATEvent-dc001ab586f5aaee2e1647ca38c4f58e
SEQUENCE:0
LAST-MODIFIED:20140530T074627Z
SUMMARY:Cnr - RoadShow 2013
LOCATION:Presso Università di Milano-Bicocca
PRIORITY:3
TRANSP:0
END:VEVENT
END:VCALENDAR
