BEGIN:VCALENDAR
PRODID:-//AT Content Types//AT Event//EN
VERSION:2.0
METHOD:PUBLISH
BEGIN:VEVENT
DTSTAMP:20260419T195534Z
CREATED:20130313T162108Z
UID:ATEvent-e3606f554dc29c363986ecfbd2aa74b3
LAST-MODIFIED:20140625T081608Z
SUMMARY:Cnr - RoadShow 2014
DTSTART:20140630T073000Z
DTEND:20140630T144500Z
LOCATION:Presso Università di Milano-Bicocca
CATEGORIES:Conference
CLASS:PUBLIC
END:VEVENT
END:VCALENDAR
